BEGIN:VCALENDAR
VERSION:2.0
PRODID:-//Tukios.com/
BEGIN:VEVENT
UID:e40ce2d6-a20e-4ee0-b6d9-1f508e809063@www.schramkafuneralhome.com
DTSTAMP:20260424T202519Z
DTSTART:20260501T150000Z
DTEND:20260501T160000Z
SUMMARY:Visitation
DESCRIPTION:
URL:https://www.schramkafuneralhome.com/obituaries/barbara-mlekoday
LOCATION:Blessed Savior Catholic Church 8545 West Villard Avenue  
	Milwaukee WI 53225
GEO:43.1118896;-88.0189194
END:VEVENT
END:VCALENDAR