BEGIN:VCALENDAR
VERSION:2.0
PRODID:-//Tukios.com/
BEGIN:VEVENT
UID:71db5692-b72e-4318-b792-caa0189cd6ea@www.schramkafuneralhome.com
DTSTAMP:20260424T202555Z
DTSTART:20260501T160000Z
DTEND:20260501T170000Z
SUMMARY:Funeral Mass
DESCRIPTION:
URL:https://www.schramkafuneralhome.com/obituaries/barbara-mlekoday
LOCATION:Blessed Savior Catholic Church 8545 West Villard Avenue  
	Milwaukee WI 53225
GEO:43.1118896;-88.0189194
END:VEVENT
END:VCALENDAR