BEGIN:VCALENDAR
VERSION:2.0
PRODID:-//Tukios.com/
BEGIN:VEVENT
UID:07d3afde-500d-460d-9cc3-5c56fa1e4e78@www.schramkafuneralhome.com
DTSTAMP:20260420T172432Z
DTSTART:20260424T170000Z
DTEND:20260424T180000Z
SUMMARY:Funeral Service
DESCRIPTION:
URL:https://www.schramkafuneralhome.com/obituaries/carol-wronski
LOCATION:Schramka Funeral Home 13220 W Capitol Dr  Brookfield WI 53005
GEO:43.0898499;-88.0766404
END:VEVENT
END:VCALENDAR