BEGIN:VCALENDAR
VERSION:2.0
PRODID:-//Tukios.com/
BEGIN:VEVENT
UID:172fc3c5-c27d-49a4-a040-173305db200c@www.schramkafuneralhome.com
DTSTAMP:20260420T171724Z
DTSTART:20260424T150000Z
DTEND:20260424T170000Z
SUMMARY:Visitation
DESCRIPTION:
URL:https://www.schramkafuneralhome.com/obituaries/carol-wronski
LOCATION:Schramka Funeral Home 13220 W Capitol Dr  Brookfield WI 53005
GEO:43.0898499;-88.0766404
END:VEVENT
END:VCALENDAR