BEGIN:VCALENDAR
VERSION:2.0
PRODID:-//Tukios.com/
BEGIN:VEVENT
UID:41f41ed4-1050-4cf9-a78b-614214e2d03c@www.schramkafuneralhome.com
DTSTAMP:20260420T202506Z
DTSTART:20260427T150000Z
DTEND:20260427T170000Z
SUMMARY:Visitation
DESCRIPTION:
URL:https://www.schramkafuneralhome.com/obituaries/felix-hughes
LOCATION:Schramka-Densow Funeral Home 423 N Main St  Thiensville WI 53092
GEO:43.2391165;-87.9857007
END:VEVENT
END:VCALENDAR