BEGIN:VCALENDAR
VERSION:2.0
PRODID:-//Tukios.com/
BEGIN:VEVENT
UID:f22b16d3-d41f-4382-934d-0a232225b24a@www.schramkafuneralhome.com
DTSTAMP:20260420T202334Z
DTSTART:20260427T170000Z
DTEND:20260427T180000Z
SUMMARY:Funeral Service
DESCRIPTION:
URL:https://www.schramkafuneralhome.com/obituaries/felix-hughes
LOCATION:Schramka-Densow Funeral Home 423 N Main St  Thiensville WI 53092
GEO:43.2391165;-87.9857007
END:VEVENT
END:VCALENDAR