BEGIN:VCALENDAR
VERSION:2.0
PRODID:-//Tukios.com/
BEGIN:VEVENT
UID:a5814170-d903-4819-a4ce-4761ad2f9906@www.schramkafuneralhome.com
DTSTAMP:20260424T230113Z
DTSTART:20260506T190000Z
DTEND:20260506T200000Z
SUMMARY:Military Honors
DESCRIPTION:A Celebration of Life Reception to follow.
URL:https://www.schramkafuneralhome.com/obituaries/randall-klump
LOCATION:American Legion Post 449 3245 North 124th Street  Brookfield WI 
	53005
GEO:43.0776855;-88.0674901
END:VEVENT
END:VCALENDAR